Workbook
Name IQ_CH: 110000
Name IQ_CQ: 5000
Name IQ_CY: 10000
Name IQ_DAILY: 500000
Name IQ_FH: 100000
Name IQ_FQ: 500
Name IQ_FY: 1000
Name IQ_LTM: 2000
Name IQ_MONTH: 15000
Name IQ_NTM: 6000
Name IQ_WEEK: 50000
Name IQ_YTD: 3000

Sheet BS
A1: Thai Poly Acrylic Public Company Limited
A2: Statement of financial position
A3: As at 31 December 2025
G4: (Unit: Baht)
C5: Note | E5: 2025 | G5: 2024
A6: Assets
A7: Current assets
A8: Cash and cash equivalents | C8: 7 | E8: 75429838 | G8: 79945603
A9: Trade and other current receivables | C9: 8 | E9: 110244239 | G9: 150156625
A10: Inventories | C10: 9 | E10: 56743788 | G10: 80986869
A11: Other current financial assets | C11: 10 | E11: 40000000 | G11: 41237467
A12: Other current assets | E12: 4977323 | G12: 4332576
A13: Total current assets | E13: =SUM(E8:E12) -> 287395188 | G13: =SUM(G8:G12) -> 356659140
A14: Non-current assets
A15: Restricted bank deposit | C15: 10 | E15: 5984000 | G15: 6184000
A16: Property, plant and equipment | C16: 11 | E16: 192086641 | G16: 208999021
A17: Intangible assets - computer softwares | E17: 270275 | G17: 362525
A18: Deferred tax assets | C18: 19 | E18: 6961014 | G18: 6884687
A19: Other non-current assets | E19: 129337 | G19: 129337
A20: Total non-current assets | E20: =SUM(E15:E19) -> 205431267 | G20: =SUM(G15:G19) -> 222559570
A21: Total assets | E21: =SUM(E20,E13) -> 492826455 | G21: =SUM(G20,G13) -> 579218710
A23: The accompanying notes are an integral part of the financial statements.
A24: Thai Poly Acrylic Public Company Limited
A25: Statement of financial position (continued)
A26: As at 31 December 2025
G27: (Unit: Baht)
C28: Note | E28: 2025 | G28: 2024
A29: Liabilities and shareholders' equity
A30: Current liabilities
A31: Trade and other current payables | C31: 12 | E31: 98998263 | G31: 161130399
A32: Current portion of lease liabilities | C32: 13 | E32: 2017044 | G32: 2273043
A33: Advance received from customers | E33: 5779525 | G33: 9077957
A34: Other current financial liability - forward contract | E34: 0 | G34: 29365
A35: Other current liabilities | E35: 1273278 | G35: 1381691
A36: Total current liabilities | E36: =SUM(E31:E35) -> 108068110 | G36: =SUM(G31:G35) -> 173892455
A37: Non-current liabilities
A38: Lease liabilities, net of current portion | C38: 13 | E38: 3327115 | G38: 6390999
A39: Provision for employee benefits | C39: 14 | E39: 27519892 | G39: 28371654
A40: Total non-current liabilities | E40: =SUM(E38:E39) -> 30847007 | G40: =SUM(G38:G39) -> 34762653
A41: Total liabilities | E41: =SUM(E40,E36) -> 138915117 | G41: =SUM(G40,G36) -> 208655108
...

Sheet PL
A1: Thai Poly Acrylic Public Company Limited
A2: Statement of comprehensive income
A3: For the year ended 31 December 2025
G4: (Unit: Baht)
C5: Note | E5: 2025 | G5: 2024
A6: Profit or loss:
A7: Revenues
A8: Sales and service income | E8: 632082573 | G8: 795128800
A9: Other income | C9: 17 | E9: 9604079 | G9: 9752962
A10: Total revenues | E10: =SUM(E8:E9) -> 641686652 | G10: =SUM(G8:G9) -> 804881762
A11: Expenses
A12: Cost of sales and services | E12: 552449172 | G12: 718555302
A13: Selling and distribution expenses | E13: 16023286 | G13: 18264961
A14: Administrative expenses | E14: 86434854 | G14: 89630988
A15: Total expenses | E15: =SUM(E12:E14) -> 654907312 | G15: =SUM(G12:G14) -> 826451251
A16: Operating loss | E16: =E10-E15 -> -13220660 | G16: -21569489
A17: Finance cost | C17: 13 | E17: -155987 | G17: -217016
A18: Loss before income tax income | E18: =SUM(E16:E17) -> -13376647 | G18: =SUM(G16:G17) -> -21786505
A19: Income tax expense | C19: 19 | E19: -594061 | G19: -723307
A20: Loss for the year | E20: =SUM(E18:E19) -> -13970708 | G20: =SUM(G18:G19) -> -22509812
A22: Other comprehensive income:
A23: Other comprehensive income not to be reclassified
A24: to profit or loss in subsequent periods
A25: Actuarial gain - net of income tax | E25: -2681556 | G25: 0
A26: Other comprehensive income for the year | E26: -2681556 | G26: 0
A27: Total comprehensive income for the year | E27: =SUM(E20,E26) -> -16652264 | G27: =SUM(G20,G26) -> -22509812
A29: Earnings (loss) per share | C29: 20
A30: Basic loss per share | E30: =E20/121500000 -> -0.11498525 | G30: =G20/121500000 -> -0.18526594
A32: The accompanying notes are an integral part of the financial statements.

Sheet CE
A1: Thai Poly Acrylic Public Company Limited
A2: Statement of changes in shareholders' equity
A3: For the year ended 31 December 2025
A4: (Unit: Baht)
B5: Issued and | F5: Retained earnings
B6: fully paid | F6: Appropriated -
B7: share capital | D7: Share premium | F7: statutory reserve | H7: Unappropriated | J7: Total
A9: Balance as at 1 January 2024 | B9: 121500000 | D9: 233350000 | F9: 12150000 | H9: 56448414 | J9: =SUM(B9:H9) -> 423448414
A10: Loss for the year | B10: 0 | D10: 0 | F10: 0 | H10: =PL!G20 -> -22509812 | J10: =SUM(B10:H10) -> -22509812
A11: Other comprehensive income for the year | B11: 0 | D11: 0 | F11: 0 | H11: -22509812 | J11: =SUM(B11:H11) -> -22509812
A12: Dividend paid (Note 23) | B12: 0 | D12: 0 | F12: 0 | H12: -30375000 | J12: =SUM(B12:H12) -> -30375000
A13: Balance as at 31 December 2024 | B13: =SUM(B9,B11:B12) -> 121500000 | D13: =SUM(D9,D11:D12) -> 233350000 | F13: =SUM(F9,F11:F12) -> 12150000 | H13: =SUM(H9,H11:H12) -> 3563602 | J13: =SUM(J9,J11:J12) -> 370563602
A15: Balance as at 1 January 2025 | B15: =B13 -> 121500000 | D15: =D13 -> 233350000 | F15: =F13 -> 12150000 | H15: =H13 -> 3563602 | J15: =J13 -> 370563602
A16: Loss for the year | B16: 0 | D16: 0 | F16: 0 | H16: =PL!E20 -> -13970708 | J16: =SUM(B16:H16) -> -13970708
A17: Other comprehensive income for the year | B17: 0 | D17: 0 | F17: 0 | H17: =PL!E25 -> -2681556 | J17: =SUM(B17:H17) -> -2681556
A18: Total comprehensive income for the year | B18: =SUM(B16:B17) -> 0 | D18: =SUM(D16:D17) -> 0 | F18: =SUM(F16:F17) -> 0 | H18: =SUM(H16:H17) -> -16652264 | J18: =SUM(J16:J17) -> -16652264
A19: Balance as at 31 December 2025 | B19: =SUM(B15,B18:B18) -> 121500000 | D19: =SUM(D15,D18:D18) -> 233350000 | F19: =SUM(F15,F18:F18) -> 12150000 | H19: =SUM(H15,H18:H18) -> -13088662 | J19: =SUM(J15,J18:J18) -> 353911338
J20: =SUM(J19-BS!E59) -> 0
A21: The accompanying notes are an integral part of the financial statements.

Sheet CF
A1: Thai Poly Acrylic Public Company Limited
A2: Cash flow statement
A3: For the year ended 31 December 2025
F4: (Unit: Baht)
D5: 2025 | F5: 2024
A6: Cash flows from (used in) operating activities
A7: Loss before tax | D7: =PL!E18 -> -13376647 | F7: =PL!G18 -> -21786505
A8: Adjustments to reconcile profit (loss) before tax to
A9: net cash provided by (paid from) operating activities
A10: Depreciation and amortisation | D10: 19154925 | F10: 20306183
A11: Expected credit loss (reversal) | D11: -164488 | F11: 175450
A12: Reversal of reduction cost of inventories to net realisable value | D12: -3251980 | F12: -2241086
A13: Loss (gain) on sales and write off of machinery and equipment | D13: 18744 | F13: -247
A14: Provision for employee benefits | D14: 3711364 | F14: 4151618
A15: Employees termination expense | D15: 6830713 | F15: 1580949
A16: Unrealised exchange loss (gain) | D16: -54405 | F16: 187933
A17: Gain on lease termination | D17: -31638 | F17: 0
A18: Interest income | D18: -763066 | F18: -1396448
A19: Finance cost | D19: 155987 | F19: 217016
A20: Profit from operating activities before
A21: changes in operating assets and liabilities | D21: =SUM(D7:D19) -> 12229509 | F21: =SUM(F7:F19) -> 1194863
A22: Operating assets (increase) decrease
A23: Trade and other current receivables | D23: 39426577 | F23: 64155788
A24: Inventories | D24: 27495061 | F24: 186166
A25: Other current assets | D25: -634441 | F25: 490477
A26: Operating liabilities increase (decrease)
A27: Trade and other current payables | D27: -61895602 | F27: -42643216
A28: Advance received from customers | D28: -3298432 | F28: -7389422
A29: Other current liabilities | D29: -137778 | F29: -336654
A30: Cash paid for employee benefits | D30: -14745783 | F30: -11277121
A31: Cash flows from (used in) operating activities | D31: =SUM(D21:D30) -> -1560889 | F31: =SUM(F21:F30) -> 4380881
A32: Cash paid for interest expenses | D32: -155987 | F32: -217016
A33: Cash paid for corporate income tax | D33: -10306 | F33: -10163
A34: Net cash flows from (used in) operating activities | D34: =SUM(D31:D33) -> -1727182 | F34: =SUM(F31:F33) -> 4153702
A36: The accompanying notes are an integral part of the financial statements.
A37: Thai Poly Acrylic Public Company Limited
A38: Cash flow statement (continued)
A39: For the year ended 31 December 2025
F40: (Unit: Baht)
D41: 2025 | F41: 2024
...
